BEGIN:VCALENDAR
VERSION:2.0
PRODID:-//Sand Creek Station - ECPv6.15.18//NONSGML v1.0//EN
CALSCALE:GREGORIAN
METHOD:PUBLISH
X-WR-CALNAME:Sand Creek Station
X-ORIGINAL-URL:https://sandcreekgolfclub.com
X-WR-CALDESC:Events for Sand Creek Station
REFRESH-INTERVAL;VALUE=DURATION:PT1H
X-Robots-Tag:noindex
X-PUBLISHED-TTL:PT1H
BEGIN:VTIMEZONE
TZID:UTC
BEGIN:STANDARD
TZOFFSETFROM:+0000
TZOFFSETTO:+0000
TZNAME:UTC
DTSTART:20240101T000000
END:STANDARD
END:VTIMEZONE
BEGIN:VEVENT
DTSTART;TZID=UTC:20250924T110000
DTEND;TZID=UTC:20250924T170000
DTSTAMP:20260423T132224
CREATED:20250428T192514Z
LAST-MODIFIED:20250428T192514Z
UID:10000182-1758711600-1758733200@sandcreekgolfclub.com
SUMMARY:Private Event-Select Tee Times Available
DESCRIPTION:
URL:https://sandcreekgolfclub.com/event/private-event-select-tee-times-available/
END:VEVENT
BEGIN:VEVENT
DTSTART;TZID=UTC:20250924T173000
DTEND;TZID=UTC:20250924T210000
DTSTAMP:20260423T132224
CREATED:20250224T190844Z
LAST-MODIFIED:20250224T190844Z
UID:10000040-1758735000-1758747600@sandcreekgolfclub.com
SUMMARY:Men's League
DESCRIPTION:
URL:https://sandcreekgolfclub.com/event/mens-league/2025-09-24/
END:VEVENT
END:VCALENDAR